BEGIN:VCALENDAR
VERSION:2.0
PRODID:-//Tukios.com/
BEGIN:VEVENT
UID:11503b8c-cae0-4556-a7c1-2fa0a74c3bd7@www.oneilfuneralhome.ca
DTSTAMP:20260423T214317Z
DTSTART:20260427T200000Z
DTEND:20260427T230000Z
SUMMARY:Visitation
DESCRIPTION:
URL:https://www.oneilfuneralhome.ca/obituaries/jaime-amaral
LOCATION: 350 William St.  London ON N6B 3C7
GEO:42.9862771;-81.232953
END:VEVENT
END:VCALENDAR