BEGIN:VCALENDAR
VERSION:2.0
PRODID:-//Tukios.com/
BEGIN:VEVENT
UID:7676c36a-a8e6-47f4-9678-03a278a66338@www.oneilfuneralhome.ca
DTSTAMP:20260423T214459Z
DTSTART:20260428T140000Z
DTEND:20260428T150000Z
SUMMARY:Visitation
DESCRIPTION:
URL:https://www.oneilfuneralhome.ca/obituaries/jaime-amaral
LOCATION: 1980 Trafalgar Street.  London ON N5V 1A2
GEO:42.9938744;-81.1665045
END:VEVENT
END:VCALENDAR