BEGIN:VCALENDAR
VERSION:2.0
PRODID:-//Tukios.com/
BEGIN:VEVENT
UID:953e363f-3869-4b3d-84ee-b02988a07e48@www.oneilfuneralhome.ca
DTSTAMP:20260423T214310Z
DTSTART:20260428T150000Z
DTEND:20260428T160000Z
SUMMARY:Mass
DESCRIPTION:
URL:https://www.oneilfuneralhome.ca/obituaries/jaime-amaral
LOCATION: 1980 Trafalgar Street.  London ON N5V 1A2
GEO:42.9938744;-81.1665045
END:VEVENT
END:VCALENDAR