BEGIN:VCALENDAR
VERSION:2.0
PRODID:-//Tukios.com/
BEGIN:VEVENT
UID:4212688f-90ae-4519-b670-c8fccbde2b24@www.oneilfuneralhome.ca
DTSTAMP:20260423T214516Z
DTSTART:20260428T163000Z
DTEND:20260428T170000Z
SUMMARY:Burial
DESCRIPTION:
URL:https://www.oneilfuneralhome.ca/obituaries/jaime-amaral
LOCATION: 806 Victoria Street  London ON N5Y 4E1
GEO:43.0133057;-81.2271848
END:VEVENT
END:VCALENDAR